BEGIN:VCALENDAR
VERSION:2.0
PRODID:-//Tukios.com/
BEGIN:VEVENT
UID:c4765163-bb11-4fc9-9d98-2c93dc2e02ee@www.fisherrilesfuneralhome.com
DTSTAMP:20260423T221024Z
DTSTART:20260424T150000Z
DTEND:20260424T160000Z
SUMMARY:Visitation
DESCRIPTION:
URL:https://www.fisherrilesfuneralhome.com/obituaries/frank-cassino-jr
LOCATION:Fisher-Riles Funeral Home 5000 Indiana Avenue  Vicksburg MS 
	39180
GEO:32.3276205;-90.8423506
END:VEVENT
END:VCALENDAR