BEGIN:VCALENDAR
VERSION:2.0
PRODID:-//Tukios.com/
BEGIN:VEVENT
UID:3566c85e-94e5-4c14-81b0-2042b3d8852e@www.fisherrilesfuneralhome.com
DTSTAMP:20260423T221632Z
DTSTART:20260424T160000Z
DTEND:20260424T170000Z
SUMMARY:Funeral Service
DESCRIPTION:
URL:https://www.fisherrilesfuneralhome.com/obituaries/frank-cassino-jr
LOCATION:Fisher-Riles Funeral Home 5000 Indiana Avenue  Vicksburg MS 
	39180
GEO:32.3276205;-90.8423506
END:VEVENT
END:VCALENDAR