BEGIN:VCALENDAR
VERSION:2.0
PRODID:-//Tukios.com/
BEGIN:VEVENT
UID:dc54e30a-b955-4bdd-8811-681c24db7396@www.fisherrilesfuneralhome.com
DTSTAMP:20260423T221146Z
DTSTART:20260424T170000Z
DTEND:20260424T180000Z
SUMMARY:Graveside Service
DESCRIPTION:
URL:https://www.fisherrilesfuneralhome.com/obituaries/frank-cassino-jr
LOCATION:Cedar Hill Cemetery 326 Lovers Ln  Vicksburg MS 39183
GEO:32.3651453;-90.8627913
END:VEVENT
END:VCALENDAR